BEGIN:VCALENDAR
VERSION:2.0
PRODID:-//Kentucky Oral Health Coalition - ECPv6.15.18//NONSGML v1.0//EN
CALSCALE:GREGORIAN
METHOD:PUBLISH
X-WR-CALNAME:Kentucky Oral Health Coalition
X-ORIGINAL-URL:https://kyoralhealthcoalition.org
X-WR-CALDESC:Events for Kentucky Oral Health Coalition
REFRESH-INTERVAL;VALUE=DURATION:PT1H
X-Robots-Tag:noindex
X-PUBLISHED-TTL:PT1H
BEGIN:VTIMEZONE
TZID:America/Kentucky/Louisville
BEGIN:DAYLIGHT
TZOFFSETFROM:-0500
TZOFFSETTO:-0400
TZNAME:EDT
DTSTART:20230312T070000
END:DAYLIGHT
BEGIN:STANDARD
TZOFFSETFROM:-0400
TZOFFSETTO:-0500
TZNAME:EST
DTSTART:20231105T060000
END:STANDARD
BEGIN:DAYLIGHT
TZOFFSETFROM:-0500
TZOFFSETTO:-0400
TZNAME:EDT
DTSTART:20240310T070000
END:DAYLIGHT
BEGIN:STANDARD
TZOFFSETFROM:-0400
TZOFFSETTO:-0500
TZNAME:EST
DTSTART:20241103T060000
END:STANDARD
BEGIN:DAYLIGHT
TZOFFSETFROM:-0500
TZOFFSETTO:-0400
TZNAME:EDT
DTSTART:20250309T070000
END:DAYLIGHT
BEGIN:STANDARD
TZOFFSETFROM:-0400
TZOFFSETTO:-0500
TZNAME:EST
DTSTART:20251102T060000
END:STANDARD
END:VTIMEZONE
BEGIN:VEVENT
DTSTART;TZID=America/Kentucky/Louisville:20240614T100000
DTEND;TZID=America/Kentucky/Louisville:20240614T120000
DTSTAMP:20260424T140324
CREATED:20240506T165437Z
LAST-MODIFIED:20240515T160421Z
UID:4844-1718359200-1718366400@kyoralhealthcoalition.org
SUMMARY:Summer Quarterly Meeting
DESCRIPTION:Kentucky Oral Health Coalition will be hosting their Summer Quarterly Meeting on June 14th at 10am EST. This year’s KOHC March Quarterly Meeting will be held virtually\, and we will use our time to share coalition updates and to develop priorities for 2025. Zoom meeting information will be sent to the email address registered on form. 2024 June Quarterly Agenda. \nDental and dental hygiene CEUs will be available to current KOHC members.\nWant to earn dental CEUs for this meeting? Follow the link from your registration confirmation to renew or become a member today! Thank you to CareQuest Institute for Oral Health for their support. Interested in sponsoring a KOHC meeting? Follow the link in your registration confirmation to learn more. \nREGISTER NOW!  \n 
URL:https://kyoralhealthcoalition.org/event/summer-quarterly-meeting/
LOCATION:Virtual event
ATTACH;FMTTYPE=image/png:https://kyoralhealthcoalition.org/wp-content/uploads/2024/05/Summer-Meeting-KOHC-1.png
END:VEVENT
END:VCALENDAR