BEGIN:VCALENDAR
VERSION:2.0
PRODID:-//Kentucky Oral Health Coalition - ECPv6.15.18//NONSGML v1.0//EN
CALSCALE:GREGORIAN
METHOD:PUBLISH
X-WR-CALNAME:Kentucky Oral Health Coalition
X-ORIGINAL-URL:https://kyoralhealthcoalition.org
X-WR-CALDESC:Events for Kentucky Oral Health Coalition
REFRESH-INTERVAL;VALUE=DURATION:PT1H
X-Robots-Tag:noindex
X-PUBLISHED-TTL:PT1H
BEGIN:VTIMEZONE
TZID:America/Kentucky/Louisville
BEGIN:DAYLIGHT
TZOFFSETFROM:-0500
TZOFFSETTO:-0400
TZNAME:EDT
DTSTART:20220313T070000
END:DAYLIGHT
BEGIN:STANDARD
TZOFFSETFROM:-0400
TZOFFSETTO:-0500
TZNAME:EST
DTSTART:20221106T060000
END:STANDARD
BEGIN:DAYLIGHT
TZOFFSETFROM:-0500
TZOFFSETTO:-0400
TZNAME:EDT
DTSTART:20230312T070000
END:DAYLIGHT
BEGIN:STANDARD
TZOFFSETFROM:-0400
TZOFFSETTO:-0500
TZNAME:EST
DTSTART:20231105T060000
END:STANDARD
BEGIN:DAYLIGHT
TZOFFSETFROM:-0500
TZOFFSETTO:-0400
TZNAME:EDT
DTSTART:20240310T070000
END:DAYLIGHT
BEGIN:STANDARD
TZOFFSETFROM:-0400
TZOFFSETTO:-0500
TZNAME:EST
DTSTART:20241103T060000
END:STANDARD
END:VTIMEZONE
BEGIN:VEVENT
DTSTART;TZID=America/Kentucky/Louisville:20230405T100000
DTEND;TZID=America/Kentucky/Louisville:20230405T120000
DTSTAMP:20260425T123809
CREATED:20230303T161545Z
LAST-MODIFIED:20230303T162927Z
UID:4446-1680688800-1680696000@kyoralhealthcoalition.org
SUMMARY:Recognizing and Responding to Neglect for Oral Health Professionals
DESCRIPTION:A virtual training for oral health professionals. \nOral health professionals play a unique and important role in the prevention\, recognition\, and reporting of child maltreatment\, including neglect. Join the Kentucky Oral Health Coalition and Delta Dental of Kentucky for a free\, virtual training with Carla Hay\, pediatric forensic nurse from Kentucky Children’s Hospital\, on Wednesday\, April 5th from 10:00 AM to 12:00 PM ET. \nIn this training\, participants will learn to recognize common forms of child neglect\, contributing factors and key principles for assessing neglect\, as well as appropriate response when neglect is identified in the dental office. FREE continuing education credits are available for dentists and dental hygienists. Please fill out the form below to register. Zoom meeting information will be sent to the email address entered. \nRegister for training by clicking here.
URL:https://kyoralhealthcoalition.org/event/recognizing-and-responding-to-neglect-for-oral-health-professionals/
LOCATION:Virtual event
ATTACH;FMTTYPE=image/png:https://kyoralhealthcoalition.org/wp-content/uploads/2023/03/Recognizing-and-Responding-to-Neglect-1.png
END:VEVENT
END:VCALENDAR