BEGIN:VCALENDAR
VERSION:2.0
PRODID:-//Kentucky Oral Health Coalition - ECPv6.15.18//NONSGML v1.0//EN
CALSCALE:GREGORIAN
METHOD:PUBLISH
X-ORIGINAL-URL:https://kyoralhealthcoalition.org
X-WR-CALDESC:Events for Kentucky Oral Health Coalition
REFRESH-INTERVAL;VALUE=DURATION:PT1H
X-Robots-Tag:noindex
X-PUBLISHED-TTL:PT1H
BEGIN:VTIMEZONE
TZID:America/Kentucky/Louisville
BEGIN:DAYLIGHT
TZOFFSETFROM:-0500
TZOFFSETTO:-0400
TZNAME:EDT
DTSTART:20210314T070000
END:DAYLIGHT
BEGIN:STANDARD
TZOFFSETFROM:-0400
TZOFFSETTO:-0500
TZNAME:EST
DTSTART:20211107T060000
END:STANDARD
BEGIN:DAYLIGHT
TZOFFSETFROM:-0500
TZOFFSETTO:-0400
TZNAME:EDT
DTSTART:20220313T070000
END:DAYLIGHT
BEGIN:STANDARD
TZOFFSETFROM:-0400
TZOFFSETTO:-0500
TZNAME:EST
DTSTART:20221106T060000
END:STANDARD
BEGIN:DAYLIGHT
TZOFFSETFROM:-0500
TZOFFSETTO:-0400
TZNAME:EDT
DTSTART:20230312T070000
END:DAYLIGHT
BEGIN:STANDARD
TZOFFSETFROM:-0400
TZOFFSETTO:-0500
TZNAME:EST
DTSTART:20231105T060000
END:STANDARD
END:VTIMEZONE
BEGIN:VEVENT
DTSTART;TZID=America/Kentucky/Louisville:20221202T100000
DTEND;TZID=America/Kentucky/Louisville:20221202T130000
DTSTAMP:20260425T224541
CREATED:20221104T135640Z
LAST-MODIFIED:20221117T142748Z
UID:4375-1669975200-1669986000@kyoralhealthcoalition.org
SUMMARY:Kentucky Oral Health Coalition December Annual Meeting
DESCRIPTION:KOHC is excited to host our annual meeting on Friday\, December 2\, 2022 from 10AM – 1PM ET in Louisville\, Kentucky. This year we are returning to our in-person meeting format and look forward to bringing together leaders in the oral health community\, policymakers\, oral health advocates\, professionals\, and students. \n\nKOHC members will have the opportunity to vote on the Coalition’s policy agenda for 2023. \nView the meeting agenda. \nDental and dental hygiene CEUs will be available to current KOHC members.  Lunch will be provided. \n\n\nRegister to attend the KOHC annual meeting.
URL:https://kyoralhealthcoalition.org/event/kentucky-oral-health-coalition-december-annual-meeting/
LOCATION:Foundation For a Healthy Kentucky\, 1640 Lyndon Farm Ct #100\, Louisville\, KY\, 40223\, United States
END:VEVENT
END:VCALENDAR