BEGIN:VCALENDAR
VERSION:2.0
PRODID:-//Kentucky Oral Health Coalition - ECPv6.15.18//NONSGML v1.0//EN
CALSCALE:GREGORIAN
METHOD:PUBLISH
X-WR-CALNAME:Kentucky Oral Health Coalition
X-ORIGINAL-URL:https://kyoralhealthcoalition.org
X-WR-CALDESC:Events for Kentucky Oral Health Coalition
REFRESH-INTERVAL;VALUE=DURATION:PT1H
X-Robots-Tag:noindex
X-PUBLISHED-TTL:PT1H
BEGIN:VTIMEZONE
TZID:America/Kentucky/Louisville
BEGIN:DAYLIGHT
TZOFFSETFROM:-0500
TZOFFSETTO:-0400
TZNAME:EDT
DTSTART:20130310T070000
END:DAYLIGHT
BEGIN:STANDARD
TZOFFSETFROM:-0400
TZOFFSETTO:-0500
TZNAME:EST
DTSTART:20131103T060000
END:STANDARD
BEGIN:DAYLIGHT
TZOFFSETFROM:-0500
TZOFFSETTO:-0400
TZNAME:EDT
DTSTART:20140309T070000
END:DAYLIGHT
BEGIN:STANDARD
TZOFFSETFROM:-0400
TZOFFSETTO:-0500
TZNAME:EST
DTSTART:20141102T060000
END:STANDARD
BEGIN:DAYLIGHT
TZOFFSETFROM:-0500
TZOFFSETTO:-0400
TZNAME:EDT
DTSTART:20150308T070000
END:DAYLIGHT
BEGIN:STANDARD
TZOFFSETFROM:-0400
TZOFFSETTO:-0500
TZNAME:EST
DTSTART:20151101T060000
END:STANDARD
BEGIN:DAYLIGHT
TZOFFSETFROM:-0500
TZOFFSETTO:-0400
TZNAME:EDT
DTSTART:20160313T070000
END:DAYLIGHT
BEGIN:STANDARD
TZOFFSETFROM:-0400
TZOFFSETTO:-0500
TZNAME:EST
DTSTART:20161106T060000
END:STANDARD
END:VTIMEZONE
BEGIN:VEVENT
DTSTART;TZID=America/Kentucky/Louisville:20150715T093000
DTEND;TZID=America/Kentucky/Louisville:20150715T123000
DTSTAMP:20260425T082554
CREATED:20150710T190505Z
LAST-MODIFIED:20150710T190505Z
UID:1159-1436952600-1436963400@kyoralhealthcoalition.org
SUMMARY:KOHC School Based Oral Health Convening
DESCRIPTION:The Kentucky Oral Health Coalition would like to invite you to it’s school based oral health convening on Wednesday\, July 15 at the Foundation for a Healthy Kentucky office in Louisville. Kentucky Oral Health Coalition (KOHC) is comprised of members throughout the state representing public health dentistry\, private practice dental\, FRYSCs and school nurses\, KY board of education\, social service agencies and dental schools. The mission of the KOHC is to improve the oral health of all people in Kentucky. \nOur focus is on bringing oral health services to the schools for those in need\, assisting schools with the completion of the Kentucky Dental Screening form\, and breaking down barriers to good oral health that our school communities may face. This summer our group is having a meeting to discuss these topics\, and we would like to invite you\, or a representative from your school district\, to attend as an example of a district that either has high rates of return for your Dental Screening Form\, or have worked to increase your numbers within the last few years. We want to hear what has worked for you\, in order for us to assist those that may be struggling with returns. \nWe hope that you will be able to join us. If you have any questions\, please contact Linda Poytner at linda.poynter@nkyhealth.org. \nPlease register by clicking here!
URL:https://kyoralhealthcoalition.org/event/kohc-school-based-oral-health-convening/
LOCATION:Foundation for a Healthy Kentucky Training Room\, 1640 Lyndon Farm Court\, Suite 100\, Louisville\, KY\, 40223\, United States
ATTACH;FMTTYPE=image/jpeg:https://kyoralhealthcoalition.org/wp-content/uploads/2015/07/school-based-sealant-programs.jpg
END:VEVENT
BEGIN:VEVENT
DTSTART;TZID=America/Kentucky/Louisville:20150714T150000
DTEND;TZID=America/Kentucky/Louisville:20150714T170000
DTSTAMP:20260425T082554
CREATED:20150710T190528Z
LAST-MODIFIED:20150710T190528Z
UID:1162-1436886000-1436893200@kyoralhealthcoalition.org
SUMMARY:KY Gubernatorial Forum
DESCRIPTION:
URL:https://kyoralhealthcoalition.org/event/ky-gubernatorial-forum/
LOCATION:KY
ATTACH;FMTTYPE=image/png:https://kyoralhealthcoalition.org/wp-content/uploads/2015/07/Gub-Forum-7-14-15.png
END:VEVENT
BEGIN:VEVENT
DTSTART;TZID=America/Kentucky/Louisville:20150506T150000
DTEND;TZID=America/Kentucky/Louisville:20150506T160000
DTSTAMP:20260425T082554
CREATED:20150504T145933Z
LAST-MODIFIED:20150504T145933Z
UID:1081-1430924400-1430928000@kyoralhealthcoalition.org
SUMMARY:KOHC School Based Work Group Mtg
DESCRIPTION:We are scheduled to have our school based oral health work group call on Wednesday May 6\, 2015 at 3:00 pm ET. We have a lot to discuss; the results of the oral health screening survey that was sent to school nurses and FRYSCs\, a possible focus on dental sealants in the schools\, and ideas about holding an in person work group meeting this summer.  Please contact me if you have any questions. \n 
URL:https://kyoralhealthcoalition.org/event/kohc-school-based-work-group-mtg-2/
LOCATION:Conference Call
END:VEVENT
BEGIN:VEVENT
DTSTART;TZID=America/Kentucky/Louisville:20150325T153000
DTEND;TZID=America/Kentucky/Louisville:20150325T163000
DTSTAMP:20260425T082554
CREATED:20150310T153811Z
LAST-MODIFIED:20150310T153811Z
UID:1027-1427297400-1427301000@kyoralhealthcoalition.org
SUMMARY:KOHC Oral Health Literacy Work Group
DESCRIPTION:KOHC Oral Health Literacy Work Group conference call will be held on Wednesday\, March 25\, 2015 at 3:30 P.M. ET. The work group will discuss the fall 2015 oral health summit as well as the upcoming oral health activities.  If you plan on attending\, please contact Mahak Kalra at Mkalra@kyyouth.org. \nConference line number: 877-344-1520 and use pin 12247 to attend.
URL:https://kyoralhealthcoalition.org/event/kohc-oral-health-literacy-work-group/
LOCATION:Conference Call
END:VEVENT
BEGIN:VEVENT
DTSTART;TZID=America/Kentucky/Louisville:20150325T140000
DTEND;TZID=America/Kentucky/Louisville:20150325T150000
DTSTAMP:20260425T082554
CREATED:20150310T154435Z
LAST-MODIFIED:20150310T154435Z
UID:1030-1427292000-1427295600@kyoralhealthcoalition.org
SUMMARY:Smiles Across America Webinar featuring The Drink Pyramid
DESCRIPTION:Smiles Across America® (SAA) will feature a webinar on Wednesday\,  March 25th at 2:00 P.M. E.T.by KOHC Chair\, Dr. Nikki Stone. Dr. Stone will unveil how you can use the Drink Pyramid to promote healthy drink choices with it’s fun new graphic. Click here to register.
URL:https://kyoralhealthcoalition.org/event/1030/
LOCATION:KY
END:VEVENT
BEGIN:VEVENT
DTSTART;TZID=America/Kentucky/Louisville:20150325T080000
DTEND;TZID=America/Kentucky/Louisville:20150325T120000
DTSTAMP:20260425T082554
CREATED:20150310T154024Z
LAST-MODIFIED:20150310T154024Z
UID:1028-1427270400-1427284800@kyoralhealthcoalition.org
SUMMARY:Dental Technical Advisory Committee (TAC)
DESCRIPTION:The Dental Technical Advisory Committee works with the Advisory Council for Medical Assistance and the commissioner of Medicaid to resolve issues in the dental health system. Next meeting will be held on Wednesday\, March 25th at 8 a.m.  Meeting location is at the Transportation Building on 500 Mero St.\, Frankfort\, Ky.
URL:https://kyoralhealthcoalition.org/event/dental-technical-advisory-committee-tac/
LOCATION:Transportation Building\, 500 Mero St.\, Frankfort\, KY\, 40601\, United States
END:VEVENT
BEGIN:VEVENT
DTSTART;TZID=America/Kentucky/Louisville:20150311T020000
DTEND;TZID=America/Kentucky/Louisville:20150311T153000
DTSTAMP:20260425T082554
CREATED:20150310T153532Z
LAST-MODIFIED:20150310T153532Z
UID:1024-1426039200-1426087800@kyoralhealthcoalition.org
SUMMARY:Children's Technical Advisory Committee (TAC)
DESCRIPTION:The Children’s Technical Advisory Committee (TAC) advises the Medicaid Advisory Council and makes recommendations to the Cabinet for Health and Family Services on issues related to children’s health and the Medicaid program.  The Children’s TAC will take place on March 11\, 2015 at 2:00pm- 3:30pm. Please see address below for location. \nChildren’s TAC location: 275 E. Main Street\, 2nd Floor James F. Thompson Conference Room Frankfort\, KY 40621.
URL:https://kyoralhealthcoalition.org/event/childrens-technical-advisory-committee-tac/
LOCATION:Cabinet for Health and Family Services\,  275 E. Main Street\, Frankfort\, KY\, 40621\, United States
END:VEVENT
BEGIN:VEVENT
DTSTART;TZID=America/Kentucky/Louisville:20150224T150000
DTEND;TZID=America/Kentucky/Louisville:20150224T160000
DTSTAMP:20260425T082554
CREATED:20150113T181233Z
LAST-MODIFIED:20150113T181233Z
UID:936-1424790000-1424793600@kyoralhealthcoalition.org
SUMMARY:KOHC School Based Work Group Mtg
DESCRIPTION:KOHC School Based Work Group next conference call is scheduled for Tuesday February 24\, 2015 from 3-4 p.m. ET. We will be sending out an agenda the beginning of February\, but please mark your calendars in the meantime. If you plan to attend\, please email Mahak Kalra at Mkalra@kyyouth.org or Linda Poynter at linda.poynter@nkyhealth.org. \nConference call number: 877-344-1520 and use pin 12247 to attend. \n 
URL:https://kyoralhealthcoalition.org/event/kohc-school-based-work-group-mtg/
LOCATION:Conference Call
END:VEVENT
BEGIN:VEVENT
DTSTART;TZID=America/Kentucky/Louisville:20150224T090000
DTEND;TZID=America/Kentucky/Louisville:20150224T110000
DTSTAMP:20260425T082554
CREATED:20150129T220511Z
LAST-MODIFIED:20150129T220511Z
UID:964-1424768400-1424775600@kyoralhealthcoalition.org
SUMMARY:Kentucky Dental Association Legislative Day
DESCRIPTION:The Kentucky Dental Association is holding a Legislative Day on Tuesday\, February 24th in Room 131 of the Capitol Annex from 9 a.m. to 11 a.m. This will give oral health professionals and advocates an opportunity to engage with elected officials.
URL:https://kyoralhealthcoalition.org/event/kentucky-dental-association-legislative-day/
LOCATION:Kentucky State Capitol\, 700 Capital Avenue Bay\, Frankfort \, 40601\, United States
END:VEVENT
BEGIN:VEVENT
DTSTART;TZID=America/Kentucky/Louisville:20150210T100000
DTEND;TZID=America/Kentucky/Louisville:20150210T120000
DTSTAMP:20260425T082554
CREATED:20150114T181848Z
LAST-MODIFIED:20150114T181848Z
UID:948-1423562400-1423569600@kyoralhealthcoalition.org
SUMMARY:KOHC Medicaid Work Group Mtg
DESCRIPTION:Based on the doodle poll results\, our next KOHC Medicaid work group meeting will be held on Tuesday\, February 10th at 10 a.m. in Louisville. We are finalizing the meeting location and will send out information ASAP. This will be an in-person meeting with a focus on advancing our initial conversation in December. Please contact Mahak Kalra at Mkalra@kyyouth.org if you are attending.
URL:https://kyoralhealthcoalition.org/event/kohc-medicaid-work-group-mtg-2/
LOCATION:TBD\, Louisville\, KY
END:VEVENT
BEGIN:VEVENT
DTSTART;TZID=America/Kentucky/Louisville:20150205T090000
DTEND;TZID=America/Kentucky/Louisville:20150205T140000
DTSTAMP:20260425T082554
CREATED:20150129T220138Z
LAST-MODIFIED:20150129T220138Z
UID:960-1423126800-1423144800@kyoralhealthcoalition.org
SUMMARY:Children's Advocacy Day
DESCRIPTION:Children’s Advocacy Day at the Capitol began in 2004 as an effort to unite advocates from across the state to raise their voices on behalf of children’s safety\, health\, education and economic well-being. Hundreds of advocates from over 50 counties now gather at the Capitol in Frankfort every year to ask legislators to invest in kids. The 11th Annual Children’s Advocacy Day will be Thursday\, February 5\, 2015. In 2014 more than 600 advocates attended the event in Frankfort! Elected officials\, social workers\, parents\, teachers\, judges\, doctors\, public health experts\, therapists\, members of the military\, seniors\, and kids came together to rally on children’s issues from Blueprint for Kentucky’s Children agenda. \nJoin us for 11th Annual Children’s Advocacy Day on Thursday\, February 5\, 2015!\nRegistration begins at 9:00 AM\, followed by a rally at 10:00 AM\, and Blueprint for Kentucky’s Children information mini-seminars at 11:30 AM. Just so we have an idea of how many people to expect\, please RSVP for CAD here. (We would love for your group to join us! One person can RSVP for the entire group with an estimate of how many will attend.) And please plan to meet with your legislators to discuss how you want them to support Kentucky children. Steps to prepare to meet with legislators: \n\nCheck out the Blueprint for Kentucky’s Children webpage to learn more about the issues facing Kentucky’s children during the 2015 legislative session.\nMake an appointment to visit with your legislators. Please do not wait until the day you arrive to try to get an appointment. You may want to become familiar with your legislator’s picture so you can pick them out. Visit the Legislative Research Commission website to learn who represents you. Call 502-564-8100 to schedule an appointment.\n\nRead the 2015 Children’s Advocacy Day resource booklet here. \nChildren’s Advocacy Day Agenda\n9:00 AM Registration begins \n10:00 AM Rally for Kentucky Kids \n11:30 AM-1:30 PM Blueprint for Kentucky’s Children Mini-Seminars \n\n11:30 AM-12:00 PM: Require training for educators on the prevention and recognition of child abuse\n12:00 PM-12:30 PM: Extend protective orders to victims of dating violence\, sexual assault\, and stalking\n12:30 PM-1:00 PM: Enact a statewide\, comprehensive indoor smoke-free law\n1:00 PM-1:30 PM: Prioritize early learning to ensure a strong start in life\n\nUntil 2:30 PM View the “Kentucky Kids Need…” art and essay project in the tunnel \nSponsor Children’s Advocacy Day\nSponsoring organizations’ logos will appear on all printed materials and on our website. Your sponsorship of $250 or $500 helps cover the costs of educational materials for participants and allows youth and adults from across the state to become stronger advocates for children in Kentucky. Learn more and sign up here. Questions about sponsorships? Contact Jessie Whitish atjwhitish@kyyouth.org or 502-895-8167\, x. 121. \n 
URL:https://kyoralhealthcoalition.org/event/childrens-advocacy-day/
LOCATION:Kentucky State Capitol\, 700 Capital Avenue Bay\, Frankfort \, 40601\, United States
END:VEVENT
BEGIN:VEVENT
DTSTART;TZID=America/Kentucky/Louisville:20150123T030000
DTEND;TZID=America/Kentucky/Louisville:20150123T160000
DTSTAMP:20260425T082554
CREATED:20150113T175705Z
LAST-MODIFIED:20150113T175705Z
UID:933-1421982000-1422028800@kyoralhealthcoalition.org
SUMMARY:KOHC Oral Health Literacy Work Group Meeting
DESCRIPTION:KOHC Oral Health Literacy Work Group conference call will be held on Friday\, January 23\, 2015 at 3 P.M. ET. The work group will discuss the fall 2015 oral health summit as well as the upcoming Children’s Advocacy day at the Capitol.  If you plan on attending\, please contact Mahak Kalra at Mkalra@kyyouth.org. \nConference line number: 877-344-1520 and use pin 12247 to attend. \n 
URL:https://kyoralhealthcoalition.org/event/kohc-oral-health-literacy-work-group-meeting-2/
LOCATION:Conference Call
END:VEVENT
BEGIN:VEVENT
DTSTART;TZID=America/Kentucky/Louisville:20141218T150000
DTEND;TZID=America/Kentucky/Louisville:20141218T163000
DTSTAMP:20260425T082554
CREATED:20141105T164519Z
LAST-MODIFIED:20141105T164519Z
UID:860-1418914800-1418920200@kyoralhealthcoalition.org
SUMMARY:KOHC Oral Health Literacy Work Group Meeting
DESCRIPTION:KOHC Oral Health Literacy Workgroup Meeting is scheduled for Thursday\, December 18th from 3:00 P.M. to 4:30 P.M. Eastern Time. This will be a conference call. The call in number is 877-344-1520\, Pin: 12247. We will discuss the outcomes of the Health Care Institute Training\, plans for a 2015 Oral Health Summit\, and details of Children’s Advocacy Day in February. If you have any questions\, please contact Mkalra@kyyouth.org or Lacey McNary at lmcnary@kyyouth.org.
URL:https://kyoralhealthcoalition.org/event/kohc-oral-health-literacy-work-group-meeting/
LOCATION:Conference Call
END:VEVENT
BEGIN:VEVENT
DTSTART;TZID=America/Kentucky/Louisville:20141209T100000
DTEND;TZID=America/Kentucky/Louisville:20141209T133000
DTSTAMP:20260425T082554
CREATED:20141022T190109Z
LAST-MODIFIED:20141022T190109Z
UID:832-1418119200-1418131800@kyoralhealthcoalition.org
SUMMARY:KOHC Medicaid Workgroup Meeting
DESCRIPTION:KOHC Medicaid Workgroup Meeting is scheduled for Tuesday\, December 9th at 10:00 am Eastern. This will be an in person meeting at the Kentucky Youth Advocates offices in Louisville. The agenda will include discussion on issues to address\, potential solutions to propose\, and next steps for the coalition. \nMeeting Objectives:  \n\nShared understanding of KOHC goals and desired results.\nShared understanding of current problems and need of the population.\nShared understanding of current efforts/ campaigns to improve outcomes.\nBegin formulating policy agenda for work group.\nDevelop list of possible policies to put forth to the Coalition members.\n\nIf you would like to attend\, please contact Mahak Kalra at Mkalra@kyyouth.org.
URL:https://kyoralhealthcoalition.org/event/kohc-medicaid-workgroup-meeting/
LOCATION:KY
END:VEVENT
BEGIN:VEVENT
DTSTART;TZID=America/Kentucky/Louisville:20141203T130000
DTEND;TZID=America/Kentucky/Louisville:20141203T150000
DTSTAMP:20260425T082554
CREATED:20141022T185519Z
LAST-MODIFIED:20141022T185519Z
UID:831-1417611600-1417618800@kyoralhealthcoalition.org
SUMMARY:KOHC School Based Oral Health Workgroup Meeting
DESCRIPTION:KOHC School Based Oral Health Workgroup Meeting is scheduled for Wednesday\, December 3rd at 1:00 pm Eastern. The agenda will include a discussion on moving the kindergarten dental screening proposals forward and reviewing our workplan for the upcoming year. If you have any questions\, please contact Mkalra@kyyouth.org\, Lacey McNary at Lmcnary@kyyouth.org\, or Linda Poynter at linda.poynter@nkyhealth.org.
URL:https://kyoralhealthcoalition.org/event/kohc-school-based-oral-health-workgroup-meeting/
LOCATION:Conference Call
END:VEVENT
BEGIN:VEVENT
DTSTART;TZID=America/Kentucky/Louisville:20141122T090000
DTEND;TZID=America/Kentucky/Louisville:20141122T100000
DTSTAMP:20260425T082554
CREATED:20141104T200131Z
LAST-MODIFIED:20141104T200131Z
UID:856-1416646800-1416650400@kyoralhealthcoalition.org
SUMMARY:Kentucky Board of Dentistry Meeting
DESCRIPTION:The Kentucky Board of Dentistry meets on the second Saturday of every odd month unless notice is provided indicating otherwise.  Meeting times and places may be changed with advanced notification.  All Board meetings are open to the public. 
URL:https://kyoralhealthcoalition.org/event/kentucky-board-dentistry-meeting/
LOCATION:Owl Creek Country Club\,  12400 N Osage Rd  \, Louisville \, 40223\, United States
ORGANIZER;CN="Kentucky Board of Dentistry":MAILTO:kbd@ky.gov
END:VEVENT
BEGIN:VEVENT
DTSTART;TZID=America/Kentucky/Louisville:20141120T100000
DTEND;TZID=America/Kentucky/Louisville:20141120T120000
DTSTAMP:20260425T082554
CREATED:20141022T191214Z
LAST-MODIFIED:20141022T191214Z
UID:836-1416477600-1416484800@kyoralhealthcoalition.org
SUMMARY:Advisory Council for Medical Assistance (MAC)
DESCRIPTION:The next meeting of the Advisory Council for Medical Assistance (MAC) will take place on Thursday\, November 20 at 10:00 a.m. in Room 125 of the Capitol Annex.  The MAC is a group composed of providers\, members and health care advocates established by Kentucky state law to advise the Medicaid commissioner on administration and operation of the Medicaid program.  Each of its meetings includes an overview of major issues and initiatives from Medicaid staff\, as well as reports from Technical Advisory Committees\, which represent most of the major provider groups which serve Medicaid members.  These meetings provide a good opportunity to learn about current Medicaid issues and activities.
URL:https://kyoralhealthcoalition.org/event/advisory-council-medical-assistance-mac/
LOCATION:State Capitol Annex – Room 125\, Frankfort\, KY
END:VEVENT
BEGIN:VEVENT
DTSTART;TZID=America/Kentucky/Louisville:20141117T100000
DTEND;TZID=America/Kentucky/Louisville:20141117T120000
DTSTAMP:20260425T082554
CREATED:20141022T192202Z
LAST-MODIFIED:20141022T192202Z
UID:841-1416218400-1416225600@kyoralhealthcoalition.org
SUMMARY:Kentucky Voices for Health Monthly Meeting
DESCRIPTION:If you are unable to attend in person\, please call 1-877-366-0711 and use pass code 56658420.
URL:https://kyoralhealthcoalition.org/event/kentucky-voices-health-monthly-meeting/
LOCATION:Catholic Conference\, 1042 Burlington Lane\, Frankfort\, KY
END:VEVENT
BEGIN:VEVENT
DTSTART;TZID=America/Kentucky/Louisville:20141113T170000
DTEND;TZID=America/Kentucky/Louisville:20141113T190000
DTSTAMP:20260425T082554
CREATED:20141022T190403Z
LAST-MODIFIED:20141022T190403Z
UID:834-1415898000-1415905200@kyoralhealthcoalition.org
SUMMARY:KOHC Executive Committee Meeting
DESCRIPTION:
URL:https://kyoralhealthcoalition.org/event/kohc-executive-committee-meeting/
LOCATION:TBD\, Louisville\, KY
END:VEVENT
BEGIN:VEVENT
DTSTART;TZID=America/Kentucky/Louisville:20141103T140000
DTEND;TZID=America/Kentucky/Louisville:20141103T153000
DTSTAMP:20260425T082554
CREATED:20141022T191441Z
LAST-MODIFIED:20141022T191441Z
UID:838-1415023200-1415028600@kyoralhealthcoalition.org
SUMMARY:Kentucky Voices for Health Children's Health Taskforce Meeting
DESCRIPTION:
URL:https://kyoralhealthcoalition.org/event/kentucky-voices-health-childrens-health-taskforce-meeting/
LOCATION:KY
END:VEVENT
BEGIN:VEVENT
DTSTART;TZID=America/Kentucky/Louisville:20141030T150000
DTEND;TZID=America/Kentucky/Louisville:20141030T163000
DTSTAMP:20260425T082554
CREATED:20141022T184405Z
LAST-MODIFIED:20141022T184405Z
UID:829-1414681200-1414686600@kyoralhealthcoalition.org
SUMMARY:KOHC Oral Health Literacy Workgroup Meeting
DESCRIPTION:KOHC Oral Health Literacy Workgroup Meeting is scheduled for Thursday\, October 30th from 3:00 P.M. Eastern. This will be a conference call. The call in number is 877-344-1520\, Pin: 12247. We will review and update the coalition’s literacy workplan for the upcoming year\, discuss the upcoming Health Care Institute Training\, and discuss ideas for oral health literacy resources to share on website. If you have any questions\, please contact Mkalra@kyyouth.org or Lacey McNary at lmcnary@kyyouth.org.
URL:https://kyoralhealthcoalition.org/event/kohc-oral-health-literacy-workgroup-meeting/
LOCATION:Conference Call
END:VEVENT
BEGIN:VEVENT
DTSTART;TZID=America/Kentucky/Louisville:20140725T110000
DTEND;TZID=America/Kentucky/Louisville:20140725T150000
DTSTAMP:20260425T082554
CREATED:20140707T170709Z
LAST-MODIFIED:20140707T170709Z
UID:693-1406286000-1406300400@kyoralhealthcoalition.org
SUMMARY:Kentucky Oral Health Coalition Annual Meeting
DESCRIPTION:We need your input at the Kentucky Oral Health Coalition’s annual meeting. Join us on Friday\, July 25\, 2014 from 11 a.m. to 3:00  p.m. eastern time. Registration begins at 10:30 a.m. The meeting will be held at the Foundation for a Healthy Kentucky Training  Room at 1640 Lyndon Farm Court\, Suite 100\, Louisville\, KY 40223.  \nWe will focus on developing KOHC’s policy agenda for the 2015 Kentucky General Assembly and discuss the next  chapter of KOHC including its organizational structure. A detailed agenda will follow. Lunch will be free for coalition members. All  coalition members\, oral health stakeholders\, health advocates\, educators and parents are encouraged to attend. To register for the  annual meeting\, click here. \nNot a member yet? Please join! Kentucky Oral Health Coalition’s mission is to improve the oral health of all Kentuckians so each and  every resident of the Commonwealth can enjoy optimal oral health for life. To learn more follow us on  Twitter @KyOralHealth and like us onFacebook.
URL:https://kyoralhealthcoalition.org/event/kentucky-oral-health-coalition-annual-meeting/
LOCATION:Foundation for a Healthy Kentucky Training Room\, 1640 Lyndon Farm Court\, Suite 100\, Louisville\, KY\, 40223\, United States
END:VEVENT
END:VCALENDAR