BEGIN:VCALENDAR
VERSION:2.0
PRODID:-//Kentucky Oral Health Coalition - ECPv6.15.18//NONSGML v1.0//EN
CALSCALE:GREGORIAN
METHOD:PUBLISH
X-WR-CALNAME:Kentucky Oral Health Coalition
X-ORIGINAL-URL:https://kyoralhealthcoalition.org
X-WR-CALDESC:Events for Kentucky Oral Health Coalition
REFRESH-INTERVAL;VALUE=DURATION:PT1H
X-Robots-Tag:noindex
X-PUBLISHED-TTL:PT1H
BEGIN:VTIMEZONE
TZID:America/Kentucky/Louisville
BEGIN:DAYLIGHT
TZOFFSETFROM:-0500
TZOFFSETTO:-0400
TZNAME:EDT
DTSTART:20240310T070000
END:DAYLIGHT
BEGIN:STANDARD
TZOFFSETFROM:-0400
TZOFFSETTO:-0500
TZNAME:EST
DTSTART:20241103T060000
END:STANDARD
BEGIN:DAYLIGHT
TZOFFSETFROM:-0500
TZOFFSETTO:-0400
TZNAME:EDT
DTSTART:20250309T070000
END:DAYLIGHT
BEGIN:STANDARD
TZOFFSETFROM:-0400
TZOFFSETTO:-0500
TZNAME:EST
DTSTART:20251102T060000
END:STANDARD
BEGIN:DAYLIGHT
TZOFFSETFROM:-0500
TZOFFSETTO:-0400
TZNAME:EDT
DTSTART:20260308T070000
END:DAYLIGHT
BEGIN:STANDARD
TZOFFSETFROM:-0400
TZOFFSETTO:-0500
TZNAME:EST
DTSTART:20261101T060000
END:STANDARD
END:VTIMEZONE
BEGIN:VEVENT
DTSTART;TZID=America/Kentucky/Louisville:20250912T100000
DTEND;TZID=America/Kentucky/Louisville:20250912T130000
DTSTAMP:20260420T154322
CREATED:20250416T140059Z
LAST-MODIFIED:20250820T174100Z
UID:5230-1757671200-1757682000@kyoralhealthcoalition.org
SUMMARY:September Quarterly Meeting
DESCRIPTION:This year’s KOHC September Quarterly Meeting will be held virtually on Friday\, September 12\, 2025 from 10AM – 12PM ET. KOHC is excited to host the American Institute of Dental Public Health (AIDPH) for the Kentucky stop on their Veteran Oral Health Virtual Road Tour\, a one hour interactive session highlighting opportunities to improve oral health for Kentucky veterans. The September Quarterly Meeting will be from 10:00am – 12:00pm ET\, followed immediately by the AIDPH Veteran Oral Health Virtual Road Tour from 12:00pm – 1:00pm ET. Because AIDPH will be issuing their 1.0 ADA CERP credit separately from the 2-hour CEUs issued by KOHC to current KOHC members\, there are separate registrations for the two meetings. Check out the September Quarterly agenda. \nTo register for KOHC’s September Quarterly Meeting: Click HERE. \nTo register for AIDPH’s Virtual Session: Click HERE.
URL:https://kyoralhealthcoalition.org/event/september-quarterly-meeting-2/
LOCATION:Virtual event
CATEGORIES:KOHC Meeting
ATTACH;FMTTYPE=image/png:https://kyoralhealthcoalition.org/wp-content/uploads/2025/04/Kentucky-Oral-Health-Coalition-Fall-Meeting-5.png
END:VEVENT
END:VCALENDAR